BEGIN:VCALENDAR
VERSION:2.0
PRODID:-//Plone.org//NONSGML plone.app.event//EN
X-WR-TIMEZONE:Europe/Vienna
BEGIN:VEVENT
SUMMARY:Abfahrt zum Abfall
DTSTART;TZID=Europe/Vienna:20260529T150000
DTEND;TZID=Europe/Vienna:20260529T180000
DTSTAMP:20260420T144750Z
UID:fa77c37aa3064d8281e0b25fbd4e658d@aut-prod-aaf.web.kup6s.net
CATEGORIES:Architekturtage 2026,AT26
CREATED:20240314T155907Z
DESCRIPTION:Im Recyclingzentrum Ahrental wird sichtbar\, wie rund 80.000
  Tonnen Rest- und Sperrmüll pro Jahr mechanisch aufbereitet werden. Ent
 decken Sie\, welche Wege unser Müll geht\, nachdem er unseren Haushalt ve
 rlassen hat.
GEO:47.26106729515993;11.399407088756561
LAST-MODIFIED:20260326T105819Z
LOCATION;ALTREP="https://aut-prod-aaf.web.kup6s.net/lib/adressbuch/aut-arc
 hitektur-und-tirol":aut. architektur und tirol\, Lois Welzenbacher Platz 1
 \, 6020 Innsbruck\, Austria
URL:https://aut-prod-aaf.web.kup6s.net/veranstaltungen/architekturtage-202
 6/abfahrt-zum-abfall
END:VEVENT
BEGIN:VTIMEZONE
TZID:Europe/Vienna
X-LIC-LOCATION:Europe/Vienna
BEGIN:DAYLIGHT
DTSTART:20260329T030000
TZNAME:CEST
TZOFFSETFROM:+0100
TZOFFSETTO:+0200
END:DAYLIGHT
END:VTIMEZONE
END:VCALENDAR
