BEGIN:VCALENDAR
VERSION:2.0
PRODID:-//Plone.org//NONSGML plone.app.event//EN
X-WR-TIMEZONE:Europe/Vienna
BEGIN:VEVENT
SUMMARY:Die Stubaitalbahn und ihre Brücken
DTSTART;TZID=Europe/Vienna:20260530T084500
DTEND;TZID=Europe/Vienna:20260530T131500
DTSTAMP:20260419T194421Z
UID:4d47aacc3f184533a92f68b2c176a266@aut-prod-aaf.web.kup6s.net
CATEGORIES:Architekturtage 2026,AT26
CREATED:20240314T155907Z
DESCRIPTION:Martin Schönherr und Conrad Brinkmeier wandern mit Ihnen zu d
 rei markanten Brückenbauwerken und diskutieren über deren bautechnische 
 Umsetzung und Auswirkungen auf den Raum.
GEO:47.25344330897925;11.39770656824112
LAST-MODIFIED:20260326T152114Z
LOCATION;ALTREP="https://aut-prod-aaf.web.kup6s.net/lib/adressbuch/treffpu
 nkt-haltestelle-stubaitalbahnhof":Treffpunkt: Haltestelle Stubaitalbahnhof
 \, Pater-Reinisch-Weg 4\, 6020 Innsbruck\, Austria
URL:https://aut-prod-aaf.web.kup6s.net/veranstaltungen/architekturtage-202
 6/stubaitalbahn
END:VEVENT
BEGIN:VTIMEZONE
TZID:Europe/Vienna
X-LIC-LOCATION:Europe/Vienna
BEGIN:DAYLIGHT
DTSTART:20260329T030000
TZNAME:CEST
TZOFFSETFROM:+0100
TZOFFSETTO:+0200
END:DAYLIGHT
END:VTIMEZONE
END:VCALENDAR
