BEGIN:VCALENDAR
VERSION:2.0
PRODID:-//Plone.org//NONSGML plone.app.event//EN
X-WR-TIMEZONE:Europe/Vienna
BEGIN:VEVENT
SUMMARY:Vor Ort 258 "EGKK Landschaftsarchitektur: Neugestaltung Bozner Pla
 tz\, Innsbruck"
DTSTART;TZID=Europe/Vienna:20260529T180000
DTSTAMP:20260420T110711Z
UID:33a893df88c5492082f1144cbc1d5ae2@aut-prod-aaf.web.kup6s.net
CATEGORIES:Architekturtage 2026,AT26
CREATED:20230121T154102Z
DESCRIPTION:Begleiten Sie EGKK Landschaftsarchitekten und Stadtplaner Wolf
 gang Andexlinger bei einem "Vor Ort" und erfahren Sie mehr über die Hinte
 rgründe des neuen Platzes.
GEO:47.26498262641645;11.397414207458496
LAST-MODIFIED:20260324T110127Z
LOCATION;ALTREP="https://aut-prod-aaf.web.kup6s.net/lib/adressbuch/bozner-
 platz":Bozner Platz\, 6020 Innsbruck\, Austria
URL:https://aut-prod-aaf.web.kup6s.net/veranstaltungen/architekturtage-202
 6/vor-ort-258
END:VEVENT
BEGIN:VTIMEZONE
TZID:Europe/Vienna
X-LIC-LOCATION:Europe/Vienna
BEGIN:DAYLIGHT
DTSTART:20260329T030000
TZNAME:CEST
TZOFFSETFROM:+0100
TZOFFSETTO:+0200
END:DAYLIGHT
END:VTIMEZONE
END:VCALENDAR
